BEGIN:VCALENDAR
VERSION:2.0
PRODID:-//PYVOBJECT//NONSGML Version 0.9.9//EN
X-WR-TIMEZONE:Africa/Johannesburg
BEGIN:VTIMEZONE
TZID:Africa/Johannesburg
BEGIN:STANDARD
DTSTART:20000101T000000
RRULE:FREQ=YEARLY;BYMONTH=1
TZNAME:SAST
TZOFFSETFROM:+0200
TZOFFSETTO:+0200
END:STANDARD
END:VTIMEZONE
BEGIN:VEVENT
UID:20260423T232711Z - 61214@eos-content
DTSTART;TZID=Africa/Johannesburg:20260426T150000
DTEND;TZID=Africa/Johannesburg:20260426T153000
ATTENDEE:MAILTO:roslyn@grosch.co.za
DESCRIPTION:https://www.grosch.co.za/results/residential/for-sale/kuils-riv
 er/zevendal/vacant-land/3109505/\n\nPlease confirm viewing with agent\n\nR
 oslyn Grosch (083 582 8156)
DTSTAMP:20260423T232711Z
LOCATION:Zevendal\, Kuils River
SUMMARY:Grosch Properties Show Day - GPR755
END:VEVENT
END:VCALENDAR
